BEGIN:VCALENDAR
VERSION:2.0
PRODID:-//217.160.0.215//NONSGML kigkonsult.se iCalcreator 2.41.56//
CALSCALE:GREGORIAN
UID:39623338-3730-4636-b233-636162356436
X-WR-TIMEZONE:Europe/Berlin
X-WR-CALNAME:www.datefix.de
X-WR-CALDESC:www.datefix.de Veranstaltungskalender
BEGIN:VTIMEZONE
TZID:Europe/Berlin
TZUNTIL:20280326T010000
BEGIN:STANDARD
TZNAME:CET
DTSTART:20251026T030000
TZOFFSETFROM:+0200
TZOFFSETTO:+0100
RDATE:20261025T030000
RDATE:20271031T030000
END:STANDARD
BEGIN:DAYLIGHT
TZNAME:CEST
DTSTART:20260329T020000
TZOFFSETFROM:+0100
TZOFFSETTO:+0200
RDATE:20270328T020000
END:DAYLIGHT
END:VTIMEZONE
BEGIN:VEVENT
UID:65363061-6165-4563-b135-633238376139
DTSTAMP:20260422T192649Z
DESCRIPTION:<p data-start='74' data-end='330'>Am 10. Mai 2026 ist <span cla
 ss='hover:entity-accent entity-underline inline cursor-pointer align-basel
 ine'><span class='whitespace-normal'>Adam Ondra</span></span> in Bad Schan
 dau zu Gast. In seinem Vortrag &bdquo\;Total Climber &ndash\; Warum ich es
  liebe zu klettern&ldquo\; gibt er Einblicke in seine sportliche Entwicklu
 ng und die Anf&auml\;nge seiner Kletterleidenschaft rund um Brno.</p>\n<p 
 data-start='332' data-end='641'>Im Fokus stehen seine Erfahrungen im Kalk-
  und Sandstein sowie deren Bedeutung f&uuml\;r seine Laufbahn. Ein weitere
 r Schwerpunkt liegt auf dem Klettern im <span class='hover:entity-accent e
 ntity-underline inline cursor-pointer align-baseline'><span class='whitesp
 ace-normal'>Elbsandsteingebirge</span></span>. Dabei berichtet er &uuml\;b
 er aktuelle Begehungen anspruchsvoller Routen und ordnet die Region im int
 ernationalen Kontext ein.</p>\n<p data-start='643' data-end='844'>Die Vera
 nstaltung beginnt um 19:00 Uhr in der Kulturst&auml\;tte am Kurpark Bad Sc
 handau. Tickets sind online sowie im Tourist Service Bad Schandau erh&auml
 \;ltlich. Der Vortrag findet in englischer Sprache statt.</p>
DTSTART;TZID=Europe/Madrid:20260510T190000
DTEND;TZID=Europe/Madrid:20260510T220000
LOCATION:Kulturstätte am Stadtpark\, Badallee 10\, 01814 Bad Schandau\,
SUMMARY:Vortrag: Adam Ondra | Total Climber Warum ich es Liebe zu Klettern
END:VEVENT
END:VCALENDAR
