BEGIN:VCALENDAR
VERSION:2.0
PRODID:-//217.160.0.215//NONSGML kigkonsult.se iCalcreator 2.41.56//
CALSCALE:GREGORIAN
UID:62356334-3134-4737-b361-343566366461
X-WR-TIMEZONE:Europe/Berlin
X-WR-CALNAME:www.datefix.de
X-WR-CALDESC:www.datefix.de Veranstaltungskalender
BEGIN:VTIMEZONE
TZID:Europe/Berlin
TZUNTIL:20280326T010000
BEGIN:STANDARD
TZNAME:CET
DTSTART:20251026T030000
TZOFFSETFROM:+0200
TZOFFSETTO:+0100
RDATE:20261025T030000
RDATE:20271031T030000
END:STANDARD
BEGIN:DAYLIGHT
TZNAME:CEST
DTSTART:20260329T020000
TZOFFSETFROM:+0100
TZOFFSETTO:+0200
RDATE:20270328T020000
END:DAYLIGHT
END:VTIMEZONE
BEGIN:VEVENT
UID:61663539-3734-4333-b766-333234366635
DTSTAMP:20260419T165622Z
DESCRIPTION:
DTSTART;TZID=Europe/Madrid:20260620T180000
DTEND;TZID=Europe/Madrid:20260620T213000
LOCATION:Festung Königstein\, Festung 1\, 01824 Königstein\,
SUMMARY:Sunset Dinner & optionale Abendführung mit Weinprobe
END:VEVENT
END:VCALENDAR
